BEGIN:VCALENDAR
VERSION:2.0
PRODID:-//HeightSites - ECPv6.15.17.1//NONSGML v1.0//EN
CALSCALE:GREGORIAN
METHOD:PUBLISH
X-WR-CALNAME:HeightSites
X-ORIGINAL-URL:https://heightsites.com
X-WR-CALDESC:Events for HeightSites
REFRESH-INTERVAL;VALUE=DURATION:PT1H
X-Robots-Tag:noindex
X-PUBLISHED-TTL:PT1H
BEGIN:VTIMEZONE
TZID:America/New_York
BEGIN:DAYLIGHT
TZOFFSETFROM:-0500
TZOFFSETTO:-0400
TZNAME:EDT
DTSTART:20230312T070000
END:DAYLIGHT
BEGIN:STANDARD
TZOFFSETFROM:-0400
TZOFFSETTO:-0500
TZNAME:EST
DTSTART:20231105T060000
END:STANDARD
BEGIN:DAYLIGHT
TZOFFSETFROM:-0500
TZOFFSETTO:-0400
TZNAME:EDT
DTSTART:20240310T070000
END:DAYLIGHT
BEGIN:STANDARD
TZOFFSETFROM:-0400
TZOFFSETTO:-0500
TZNAME:EST
DTSTART:20241103T060000
END:STANDARD
BEGIN:DAYLIGHT
TZOFFSETFROM:-0500
TZOFFSETTO:-0400
TZNAME:EDT
DTSTART:20250309T070000
END:DAYLIGHT
BEGIN:STANDARD
TZOFFSETFROM:-0400
TZOFFSETTO:-0500
TZNAME:EST
DTSTART:20251102T060000
END:STANDARD
END:VTIMEZONE
BEGIN:VEVENT
DTSTART;TZID=America/New_York:20241019T110000
DTEND;TZID=America/New_York:20241019T120000
DTSTAMP:20260421T014500
CREATED:20240611T175741Z
LAST-MODIFIED:20241015T220155Z
UID:10001273-1729335600-1729339200@heightsites.com
SUMMARY:Sugar Hill: Yaffa Cultural Arts Presents Griots in Concert
DESCRIPTION:Yaffa Cultural Arts Presents Griots in Concert\nContinuing the African Tradition of storytelling and drumming\, Griots in Concert creates an inspirational and educational performance presenting stories and song from Africa\, the Caribbean and America! \nSaturday\, October 19th\n11:00am
URL:https://heightsites.com/event/sugar-hill-story/
LOCATION:Sugar Hill Children’s Museum of Art & Storytelling\, 898 Saint Nicholas Avenue\, New York\, NY\, 10032\, United States
CATEGORIES:Kids Activities,Music,Written Word
ATTACH;FMTTYPE=image/jpeg:https://heightsites.com/wp-content/uploads/2024/06/sugarhill-museum-storyteller-1080x1080-griots-edit-v1.jpg
GEO:40.8303403;-73.9410448
X-APPLE-STRUCTURED-LOCATION;VALUE=URI;X-ADDRESS=Sugar Hill Children’s Museum of Art & Storytelling 898 Saint Nicholas Avenue New York NY 10032 United States;X-APPLE-RADIUS=500;X-TITLE=898 Saint Nicholas Avenue:geo:-73.9410448,40.8303403
END:VEVENT
END:VCALENDAR