BEGIN:VCALENDAR
VERSION:2.0
PRODID:-//HeightSites - ECPv6.15.20//NONSGML v1.0//EN
CALSCALE:GREGORIAN
METHOD:PUBLISH
X-WR-CALNAME:HeightSites
X-ORIGINAL-URL:https://heightsites.com
X-WR-CALDESC:Events for HeightSites
REFRESH-INTERVAL;VALUE=DURATION:PT1H
X-Robots-Tag:noindex
X-PUBLISHED-TTL:PT1H
BEGIN:VTIMEZONE
TZID:America/New_York
BEGIN:DAYLIGHT
TZOFFSETFROM:-0500
TZOFFSETTO:-0400
TZNAME:EDT
DTSTART:20240310T070000
END:DAYLIGHT
BEGIN:STANDARD
TZOFFSETFROM:-0400
TZOFFSETTO:-0500
TZNAME:EST
DTSTART:20241103T060000
END:STANDARD
BEGIN:DAYLIGHT
TZOFFSETFROM:-0500
TZOFFSETTO:-0400
TZNAME:EDT
DTSTART:20250309T070000
END:DAYLIGHT
BEGIN:STANDARD
TZOFFSETFROM:-0400
TZOFFSETTO:-0500
TZNAME:EST
DTSTART:20251102T060000
END:STANDARD
BEGIN:DAYLIGHT
TZOFFSETFROM:-0500
TZOFFSETTO:-0400
TZNAME:EDT
DTSTART:20260308T070000
END:DAYLIGHT
BEGIN:STANDARD
TZOFFSETFROM:-0400
TZOFFSETTO:-0500
TZNAME:EST
DTSTART:20261101T060000
END:STANDARD
BEGIN:DAYLIGHT
TZOFFSETFROM:-0500
TZOFFSETTO:-0400
TZNAME:EDT
DTSTART:20270314T070000
END:DAYLIGHT
BEGIN:STANDARD
TZOFFSETFROM:-0400
TZOFFSETTO:-0500
TZNAME:EST
DTSTART:20271107T060000
END:STANDARD
END:VTIMEZONE
BEGIN:VEVENT
DTSTART;TZID=America/New_York:20260226T150000
DTEND;TZID=America/New_York:20260226T160000
DTSTAMP:20260425T084032
CREATED:20260214T165840Z
LAST-MODIFIED:20260214T165840Z
UID:10008848-1772118000-1772121600@heightsites.com
SUMMARY:Hispanic Society: Panel Discussion on Afro-Latin Art & Culture
DESCRIPTION:Panel Discussion on Afro-Latin Art and Culture \nJoin us for a conversation with cast members from the Tony-Award winning Broadway musical Buena Vista Social Club\, organizers of New York’s annual Afro-Latino Festival\, and Executive Director of the New York Latin American Art Triennial (NYLAAT)\, Alexis Mendoza. Panelists will discuss the history and contemporary relevance of Afro-Latin art and culture. \nSpace is limited\, RSVP required.
URL:https://heightsites.com/event/hispanic-society-panel-discussion-on-afro-latin-art-culture/
LOCATION:Hispanic Society Museum & Library\, Audubon Terrace\, Broadway betw 155th & 156th Sts.\, New York\, NY\, 10032\, United States
CATEGORIES:Lecture,Unique Events
ATTACH;FMTTYPE=image/jpeg:https://heightsites.com/wp-content/uploads/2026/02/BuenaVista.jpg
GEO:40.8327413;-73.9457493
X-APPLE-STRUCTURED-LOCATION;VALUE=URI;X-ADDRESS=Hispanic Society Museum & Library Audubon Terrace Broadway betw 155th & 156th Sts. New York NY 10032 United States;X-APPLE-RADIUS=500;X-TITLE=Audubon Terrace\, Broadway betw 155th & 156th Sts.:geo:-73.9457493,40.8327413
END:VEVENT
BEGIN:VEVENT
DTSTART;TZID=America/New_York:20250502T170000
DTEND;TZID=America/New_York:20250502T180000
DTSTAMP:20260425T084032
CREATED:20250424T151703Z
LAST-MODIFIED:20250424T151703Z
UID:10004675-1746205200-1746208800@heightsites.com
SUMMARY:Rising in the Heights: Music & Storytelling with Denise Adusei Rosario and Leadlights Ensemble
DESCRIPTION:Bronx Children’s Museum Executive Director and author Denise Adusei Rosario joins Leadlights Ensemble to present a program of music and stories\, featuring her children’s book “Cesaria Feels the Beat\,” a lyrical and heartfelt story about deafness\, community\, and Carnival. \nRising in the Heights is a festival of free outdoor public arts performances curated by Leadlights Ensemble in partnership with Word Up Community Bookshop. The festival celebrates the rich artistic contributions of Latinx and Black cultures and promotes children’s literacy through music and bilingual storytelling. Free copies of the featured book will be available.  \nThis project is made possible in part with funds from UMEZ Arts Engagement\, supported by the Upper Manhattan Empowerment Zone (UMEZ); and Creative Engagement\, supported by The New York City Department of Cultural Affairs (DCLA) in partnership with the City Council and the Howard Gilman Foundation. UMEZ Arts Engagement and Creative Engagement are administered by LMCC.
URL:https://heightsites.com/event/rising-in-the-heights-music-storytelling-with-denise-adusei-rosario-and-leadlights-ensemble/
LOCATION:Word Up Recirculation\, 876 Riverside Drive (near 160th St.)\, New York\, NY\, United States
CATEGORIES:Art/Culture/Performance,Kids Activities,Music
ATTACH;FMTTYPE=image/png:https://heightsites.com/wp-content/uploads/2025/04/RITH_may-2.png
ORGANIZER;CN="Leadlights Ensemble":MAILTO:leadlightsensemble@gmail.com
GEO:40.8370311;-73.9466701
X-APPLE-STRUCTURED-LOCATION;VALUE=URI;X-ADDRESS=Word Up Recirculation 876 Riverside Drive (near 160th St.) New York NY United States;X-APPLE-RADIUS=500;X-TITLE=876 Riverside Drive (near 160th St.):geo:-73.9466701,40.8370311
END:VEVENT
END:VCALENDAR