BEGIN:VCALENDAR
VERSION:2.0
PRODID:-//HeightSites - ECPv6.15.17.1//NONSGML v1.0//EN
CALSCALE:GREGORIAN
METHOD:PUBLISH
X-WR-CALNAME:HeightSites
X-ORIGINAL-URL:https://heightsites.com
X-WR-CALDESC:Events for HeightSites
REFRESH-INTERVAL;VALUE=DURATION:PT1H
X-Robots-Tag:noindex
X-PUBLISHED-TTL:PT1H
BEGIN:VTIMEZONE
TZID:America/New_York
BEGIN:DAYLIGHT
TZOFFSETFROM:-0500
TZOFFSETTO:-0400
TZNAME:EDT
DTSTART:20240310T070000
END:DAYLIGHT
BEGIN:STANDARD
TZOFFSETFROM:-0400
TZOFFSETTO:-0500
TZNAME:EST
DTSTART:20241103T060000
END:STANDARD
BEGIN:DAYLIGHT
TZOFFSETFROM:-0500
TZOFFSETTO:-0400
TZNAME:EDT
DTSTART:20250309T070000
END:DAYLIGHT
BEGIN:STANDARD
TZOFFSETFROM:-0400
TZOFFSETTO:-0500
TZNAME:EST
DTSTART:20251102T060000
END:STANDARD
BEGIN:DAYLIGHT
TZOFFSETFROM:-0500
TZOFFSETTO:-0400
TZNAME:EDT
DTSTART:20260308T070000
END:DAYLIGHT
BEGIN:STANDARD
TZOFFSETFROM:-0400
TZOFFSETTO:-0500
TZNAME:EST
DTSTART:20261101T060000
END:STANDARD
BEGIN:DAYLIGHT
TZOFFSETFROM:-0500
TZOFFSETTO:-0400
TZNAME:EDT
DTSTART:20270314T070000
END:DAYLIGHT
BEGIN:STANDARD
TZOFFSETFROM:-0400
TZOFFSETTO:-0500
TZNAME:EST
DTSTART:20271107T060000
END:STANDARD
END:VTIMEZONE
BEGIN:VEVENT
DTSTART;TZID=America/New_York:20260418T140000
DTEND;TZID=America/New_York:20260418T150000
DTSTAMP:20260419T110131
CREATED:20260407T182145Z
LAST-MODIFIED:20260407T182145Z
UID:10008964-1776520800-1776524400@heightsites.com
SUMMARY:Met Cloisters: Earth Day Talk "Where the Wild Folk Are - Imagining Nature in the Medieval World"
DESCRIPTION:Observe Earth Day with a talk about finding inspiration in the natural world. A magnificent tapestry depicting lush vegetation\, fantastical animals\, and a band of wild people serves as a point of departure for thinking about the relationship of nature and human imagination through art. Join MFA\, Boston curator Elizabeth Dospěl Williams in conversation with Met curator Shirin Fozi to reflect on these enduring themes in the medieval world and today. \nFree with Museum admission\, though advance registration is recommended. Please note: Space is limited; first come\, first served. \nGallery 2\, Fuentidueña Chapel
URL:https://heightsites.com/event/met-cloisters-earth-day-talk-where-the-wild-folk-are-imagining-nature-in-the-medieval-world/
LOCATION:Cloisters Museum\, 99 Margaret Corbin Dr.\, enter at Margaret Corbin Cir. (Ft. Wash Ave. & W. 191st St.)\, New York\, 10040\, United States
CATEGORIES:Visual Arts
ATTACH;FMTTYPE=image/jpeg:https://heightsites.com/wp-content/uploads/2026/04/mfatapestry-scaled.jpg
GEO:40.8648628;-73.9317274
X-APPLE-STRUCTURED-LOCATION;VALUE=URI;X-ADDRESS=Cloisters Museum 99 Margaret Corbin Dr. enter at Margaret Corbin Cir. (Ft. Wash Ave. & W. 191st St.) New York 10040 United States;X-APPLE-RADIUS=500;X-TITLE=99 Margaret Corbin Dr.\, enter at Margaret Corbin Cir. (Ft. Wash Ave. & W. 191st St.):geo:-73.9317274,40.8648628
END:VEVENT
BEGIN:VEVENT
DTSTART;TZID=America/New_York:20260417T150000
DTEND;TZID=America/New_York:20260417T153000
DTSTAMP:20260419T110131
CREATED:20260408T193820Z
LAST-MODIFIED:20260408T193820Z
UID:10008970-1776438000-1776439800@heightsites.com
SUMMARY:The Met Cloisters: Heroes Tapestries Expert Talk
DESCRIPTION:Celebrate the recent conservation treatment of the Julius Caesar tapestry from the Nine Heroes Tapestries at The Met Cloisters by joining a talk to learn about the history and conservation of these unique textile works. \nMain Hall \nFree with Museum admission; admission is pay what you wish for New York state residents\, and free for children 12 and under with an adult\, and a care partner accompanying a visitor with a disability. Note: Space is limited; first come\, first served.
URL:https://heightsites.com/event/the-met-cloisters-heroes-tapestries-expert-talk/
LOCATION:Met Cloisters\, 99 Margaret Corbin Drive\, New York\, NY\, 10040\, United States
ATTACH;FMTTYPE=image/jpeg:https://heightsites.com/wp-content/uploads/2026/04/CliostersDocent-scaled.jpg
GEO:40.8618535;-73.932974
X-APPLE-STRUCTURED-LOCATION;VALUE=URI;X-ADDRESS=Met Cloisters 99 Margaret Corbin Drive New York NY 10040 United States;X-APPLE-RADIUS=500;X-TITLE=99 Margaret Corbin Drive:geo:-73.932974,40.8618535
END:VEVENT
BEGIN:VEVENT
DTSTART;TZID=America/New_York:20251206T110000
DTEND;TZID=America/New_York:20251206T170000
DTSTAMP:20260419T110131
CREATED:20251125T155403Z
LAST-MODIFIED:20251125T155403Z
UID:10008041-1765018800-1765040400@heightsites.com
SUMMARY:Cornerstone Studios: Winter Open Studios
DESCRIPTION:Join the artists of Cornerstone Studios for a Holiday Open Studio on Saturday\, December 6\, from 11am to 5pm\, at 178 Bennett Ave\, NYC 10040. See work by 16 artists\, enjoy hot apple cider and shop the Advent Fair tree and wreath sale downstairs\, at Our Saviour’s Atonement Lutheran Church! Open to the public and free of charge.
URL:https://heightsites.com/event/cornerstone-studios-winter-open-studios/
LOCATION:Cornerstone Studios\, 178 Bennett Ave\, 3rd Floor\, New York\, NY\, 10040\, United States
CATEGORIES:Exhibition Reception / Recepción De Exposicion,Open Studio,Visual Arts
ORGANIZER;CN="cornerstone STUDIOS":MAILTO:info@cornerstonestudios.nyc
GEO:40.8560587;-73.9344657
X-APPLE-STRUCTURED-LOCATION;VALUE=URI;X-ADDRESS=Cornerstone Studios 178 Bennett Ave 3rd Floor New York NY 10040 United States;X-APPLE-RADIUS=500;X-TITLE=178 Bennett Ave\, 3rd Floor:geo:-73.9344657,40.8560587
END:VEVENT
BEGIN:VEVENT
DTSTART;TZID=America/New_York:20251116T120000
DTEND;TZID=America/New_York:20251116T180000
DTSTAMP:20260419T110131
CREATED:20251014T181749Z
LAST-MODIFIED:20251014T181749Z
UID:10007942-1763294400-1763316000@heightsites.com
SUMMARY:RECIRCULATION: Artist Market
DESCRIPTION:Word Up is hosting an Uptown-based artist vendor market for the community! Join us at Recirculation to shop from vendors for a day of celebrating Uptown arts.\n\n\n\n\n\n\n\nThis artist market is organized by the Word Up collective.
URL:https://heightsites.com/event/recirculation-artist-market/
LOCATION:Word Up Recirculation\, 876 Riverside Drive (near 160th St.)\, New York\, NY\, United States
CATEGORIES:Art/Culture/Performance
ATTACH;FMTTYPE=image/jpeg:https://heightsites.com/wp-content/uploads/2025/10/Recirc-Art-Mkt.jpg
ORGANIZER;CN="Word Up":MAILTO:Community Bookshop - Libreria Comunitaria:noreply@facebookmail.com
GEO:40.8370311;-73.9466701
X-APPLE-STRUCTURED-LOCATION;VALUE=URI;X-ADDRESS=Word Up Recirculation 876 Riverside Drive (near 160th St.) New York NY United States;X-APPLE-RADIUS=500;X-TITLE=876 Riverside Drive (near 160th St.):geo:-73.9466701,40.8370311
END:VEVENT
END:VCALENDAR