BEGIN:VCALENDAR
VERSION:2.0
PRODID:-//HeightSites - ECPv6.15.17.1//NONSGML v1.0//EN
CALSCALE:GREGORIAN
METHOD:PUBLISH
X-ORIGINAL-URL:https://heightsites.com
X-WR-CALDESC:Events for HeightSites
REFRESH-INTERVAL;VALUE=DURATION:PT1H
X-Robots-Tag:noindex
X-PUBLISHED-TTL:PT1H
BEGIN:VTIMEZONE
TZID:America/New_York
BEGIN:DAYLIGHT
TZOFFSETFROM:-0500
TZOFFSETTO:-0400
TZNAME:EDT
DTSTART:20250309T070000
END:DAYLIGHT
BEGIN:STANDARD
TZOFFSETFROM:-0400
TZOFFSETTO:-0500
TZNAME:EST
DTSTART:20251102T060000
END:STANDARD
BEGIN:DAYLIGHT
TZOFFSETFROM:-0500
TZOFFSETTO:-0400
TZNAME:EDT
DTSTART:20260308T070000
END:DAYLIGHT
BEGIN:STANDARD
TZOFFSETFROM:-0400
TZOFFSETTO:-0500
TZNAME:EST
DTSTART:20261101T060000
END:STANDARD
BEGIN:DAYLIGHT
TZOFFSETFROM:-0500
TZOFFSETTO:-0400
TZNAME:EDT
DTSTART:20270314T070000
END:DAYLIGHT
BEGIN:STANDARD
TZOFFSETFROM:-0400
TZOFFSETTO:-0500
TZNAME:EST
DTSTART:20271107T060000
END:STANDARD
END:VTIMEZONE
BEGIN:VEVENT
DTSTART;TZID=America/New_York:20260425T150000
DTEND;TZID=America/New_York:20260425T160000
DTSTAMP:20260421T075258
CREATED:20260406T191034Z
LAST-MODIFIED:20260406T191034Z
UID:10008960-1777129200-1777132800@heightsites.com
SUMMARY:Buunni Coffee Inwood: Fairy Tale Art Cart with Storyteller Rachael Harrington
DESCRIPTION:The Fairy Tale Art Cart LIVE: Featuring Andy Seagrave\nBy Storyteller Rachael Harrington \nLIVE performance of The Fairy Tale Art Cart Podcast: Draw Along Stories For Kids. Interactive folktales\, live music\, and drawing! \nEnter a world of story and art making in this live performance of The Fairy Tale Art Cart Podcast: Draw Along Stories For Kids. You and your kids are invited to rev up your imaginations as you listen to a folktale that feature music and drawing breaks- so that you get to become the illustrators of the stories you’re listening to! \nFeaturing storyteller Rachael Harrington and musician Andy Seagrave. \nThis vibrant and creativity-inducing performance is the perfect way to connect with your kids through screen-free art making time!  Drawing materials will be provided. $30/family suggested donation at the door\, but please reserve your seat as space is limited and the show draws a crowd! Perfect for kids ages 5-105. Check out the podcast page at www.rachaelharrington.com/fairy-tale-art-cart-podcast
URL:https://heightsites.com/event/buunni-coffee-inwood-fairy-tale-art-cart-with-storyteller-rachael-harrington/
LOCATION:Buunni Inwood\, 4961 Broadway\, NEW YORK\, NY\, 10040\, United States
CATEGORIES:Kids Activities
ATTACH;FMTTYPE=image/jpeg:https://heightsites.com/wp-content/uploads/2026/04/ArtCart.jpg
ORGANIZER;CN="Buunni Coffee":MAILTO:info@buunnicoffee.com
GEO:40.8681097;-73.9204848
X-APPLE-STRUCTURED-LOCATION;VALUE=URI;X-ADDRESS=Buunni Inwood 4961 Broadway NEW YORK NY 10040 United States;X-APPLE-RADIUS=500;X-TITLE=4961 Broadway:geo:-73.9204848,40.8681097
END:VEVENT
END:VCALENDAR