BEGIN:VCALENDAR
VERSION:2.0
PRODID:-//HeightSites - ECPv6.15.17.1//NONSGML v1.0//EN
CALSCALE:GREGORIAN
METHOD:PUBLISH
X-ORIGINAL-URL:https://heightsites.com
X-WR-CALDESC:Events for HeightSites
REFRESH-INTERVAL;VALUE=DURATION:PT1H
X-Robots-Tag:noindex
X-PUBLISHED-TTL:PT1H
BEGIN:VTIMEZONE
TZID:America/New_York
BEGIN:DAYLIGHT
TZOFFSETFROM:-0500
TZOFFSETTO:-0400
TZNAME:EDT
DTSTART:20240310T070000
END:DAYLIGHT
BEGIN:STANDARD
TZOFFSETFROM:-0400
TZOFFSETTO:-0500
TZNAME:EST
DTSTART:20241103T060000
END:STANDARD
BEGIN:DAYLIGHT
TZOFFSETFROM:-0500
TZOFFSETTO:-0400
TZNAME:EDT
DTSTART:20250309T070000
END:DAYLIGHT
BEGIN:STANDARD
TZOFFSETFROM:-0400
TZOFFSETTO:-0500
TZNAME:EST
DTSTART:20251102T060000
END:STANDARD
BEGIN:DAYLIGHT
TZOFFSETFROM:-0500
TZOFFSETTO:-0400
TZNAME:EDT
DTSTART:20260308T070000
END:DAYLIGHT
BEGIN:STANDARD
TZOFFSETFROM:-0400
TZOFFSETTO:-0500
TZNAME:EST
DTSTART:20261101T060000
END:STANDARD
END:VTIMEZONE
BEGIN:VEVENT
DTSTART;TZID=America/New_York:20251007T183000
DTEND;TZID=America/New_York:20251007T200000
DTSTAMP:20260423T075006
CREATED:20250915T191759Z
LAST-MODIFIED:20250918T125345Z
UID:10007279-1759861800-1759867200@heightsites.com
SUMMARY:Hispanic Society - Artist Oscar M. Caballero discusses his art installation
DESCRIPTION:Artist Oscar M. Caballero will discuss his installation\, “NATURA EXTRACTA: Continental Ecologies & Inter-Territorial Affairs.” \n6:30-7pm enjoy the HMS&L galleries and visit NATURA EXTRACTA on the terrace. \n7-8pm Artist talk
URL:https://heightsites.com/event/44865/
LOCATION:Hispanic Society Museum & Library\, Audubon Terrace\, Broadway betw 155th & 156th Sts.\, New York\, NY\, 10032\, United States
CATEGORIES:Art/Culture/Performance,Artist Talk
ATTACH;FMTTYPE=image/jpeg:https://heightsites.com/wp-content/uploads/2025/09/250820-oscarcaballero-hispanicsociety-b0005734-small.jpg
GEO:40.8327413;-73.9457493
X-APPLE-STRUCTURED-LOCATION;VALUE=URI;X-ADDRESS=Hispanic Society Museum & Library Audubon Terrace Broadway betw 155th & 156th Sts. New York NY 10032 United States;X-APPLE-RADIUS=500;X-TITLE=Audubon Terrace\, Broadway betw 155th & 156th Sts.:geo:-73.9457493,40.8327413
END:VEVENT
END:VCALENDAR