BEGIN:VCALENDAR
VERSION:2.0
PRODID:-//HeightSites - ECPv6.15.17.1//NONSGML v1.0//EN
CALSCALE:GREGORIAN
METHOD:PUBLISH
X-WR-CALNAME:HeightSites
X-ORIGINAL-URL:https://heightsites.com
X-WR-CALDESC:Events for HeightSites
REFRESH-INTERVAL;VALUE=DURATION:PT1H
X-Robots-Tag:noindex
X-PUBLISHED-TTL:PT1H
BEGIN:VTIMEZONE
TZID:America/New_York
BEGIN:DAYLIGHT
TZOFFSETFROM:-0500
TZOFFSETTO:-0400
TZNAME:EDT
DTSTART:20240310T070000
END:DAYLIGHT
BEGIN:STANDARD
TZOFFSETFROM:-0400
TZOFFSETTO:-0500
TZNAME:EST
DTSTART:20241103T060000
END:STANDARD
BEGIN:DAYLIGHT
TZOFFSETFROM:-0500
TZOFFSETTO:-0400
TZNAME:EDT
DTSTART:20250309T070000
END:DAYLIGHT
BEGIN:STANDARD
TZOFFSETFROM:-0400
TZOFFSETTO:-0500
TZNAME:EST
DTSTART:20251102T060000
END:STANDARD
BEGIN:DAYLIGHT
TZOFFSETFROM:-0500
TZOFFSETTO:-0400
TZNAME:EDT
DTSTART:20260308T070000
END:DAYLIGHT
BEGIN:STANDARD
TZOFFSETFROM:-0400
TZOFFSETTO:-0500
TZNAME:EST
DTSTART:20261101T060000
END:STANDARD
END:VTIMEZONE
BEGIN:VEVENT
DTSTART;TZID=America/New_York:20251107T180000
DTEND;TZID=America/New_York:20251107T210000
DTSTAMP:20260421T193955
CREATED:20251010T200802Z
LAST-MODIFIED:20251010T200916Z
UID:10007773-1762538400-1762549200@heightsites.com
SUMMARY:Dyckman Farmhouse - Brewing Up History: From Farm To Bar
DESCRIPTION:Join Dyckman Farmhouse Museum for our newest fundraiser\, Brewing Up History: From Farm to Bar. \nLearn about the history of alcohol production in early America and the role of farmers like the Dyckman’s. \nYou’ll get to enjoy: \n\nUnlimited tastings from Dyckman Beer Co.\, Aaron Burr Cidery\, and The Old Field Vineyards.\nHistoric games with Philipse Manor Hall State Historic Site.\nLight bites from local restaurants\, including Refried Beans Mexican Grill\, Le Chéile\, Tubby Hook Tavern\, Tryon Public House\, and 24/7 Caterers.\nA souvenir tasting glass!\n\nAll proceeds will go to supporting Dyckman Farmhouse Museum in its mission to serve the community with art\, history\, and culture through exhibitions and free and engaging public programming. \n21+ only. IDs will be checked at the door.  \nGet your early bird tickets here! \nDate: Friday\, November 7\, 2025 \nTime: 6-9pm \nPrice: \n\nEarly Bird (Through October 22nd): $50\nRegular (Starting October 23rd): $65\n\nLocation: Dyckman Farmhouse Museum (on the corner of 204th and Broadway) \nThank you to additional supporter Brotherhood Winery.
URL:https://heightsites.com/event/brewing-up-history-from-farm-to-bar/
LOCATION:Dyckman Farmhouse Museum\, 4881 Broadway at 204th St\, New York\, NY\, 10034\, United States
CATEGORIES:Unique Events
ATTACH;FMTTYPE=image/jpeg:https://heightsites.com/wp-content/uploads/2025/10/FINAL_ENGL_Brewing-Up-History.jpg
ORGANIZER;CN="Dyckman Farmhouse Museum":MAILTO:info@dyckmanfarmhouse.org
GEO:40.8673727;-73.9228879
X-APPLE-STRUCTURED-LOCATION;VALUE=URI;X-ADDRESS=Dyckman Farmhouse Museum 4881 Broadway at 204th St New York NY 10034 United States;X-APPLE-RADIUS=500;X-TITLE=4881 Broadway at 204th St:geo:-73.9228879,40.8673727
END:VEVENT
END:VCALENDAR