BEGIN:VCALENDAR
VERSION:2.0
PRODID:-//HeightSites - ECPv6.15.17.1//NONSGML v1.0//EN
CALSCALE:GREGORIAN
METHOD:PUBLISH
X-ORIGINAL-URL:https://heightsites.com
X-WR-CALDESC:Events for HeightSites
REFRESH-INTERVAL;VALUE=DURATION:PT1H
X-Robots-Tag:noindex
X-PUBLISHED-TTL:PT1H
BEGIN:VTIMEZONE
TZID:America/New_York
BEGIN:DAYLIGHT
TZOFFSETFROM:-0500
TZOFFSETTO:-0400
TZNAME:EDT
DTSTART:20250309T070000
END:DAYLIGHT
BEGIN:STANDARD
TZOFFSETFROM:-0400
TZOFFSETTO:-0500
TZNAME:EST
DTSTART:20251102T060000
END:STANDARD
BEGIN:DAYLIGHT
TZOFFSETFROM:-0500
TZOFFSETTO:-0400
TZNAME:EDT
DTSTART:20260308T070000
END:DAYLIGHT
BEGIN:STANDARD
TZOFFSETFROM:-0400
TZOFFSETTO:-0500
TZNAME:EST
DTSTART:20261101T060000
END:STANDARD
BEGIN:DAYLIGHT
TZOFFSETFROM:-0500
TZOFFSETTO:-0400
TZNAME:EDT
DTSTART:20270314T070000
END:DAYLIGHT
BEGIN:STANDARD
TZOFFSETFROM:-0400
TZOFFSETTO:-0500
TZNAME:EST
DTSTART:20271107T060000
END:STANDARD
END:VTIMEZONE
BEGIN:VEVENT
DTSTART;TZID=America/New_York:20260506T170000
DTEND;TZID=America/New_York:20260506T180000
DTSTAMP:20260423T104550
CREATED:20260422T181641Z
LAST-MODIFIED:20260422T181641Z
UID:10009008-1778086800-1778090400@heightsites.com
SUMMARY:Inwood Hill Park Nature Center: Nature Book Club
DESCRIPTION:Inwood Hill Park Nature Book Club \nJoin the Urban Park Rangers for a monthly discussion of a nature-themed book. This month’s book will be Last Chance to See by Douglas Adams and Mark Carwardine. Please have the book read before the meeting! \nRegistration not required. Program will be at Nature Center.\nWest 218th Street and Indian Road in Inwood Hill Park
URL:https://heightsites.com/event/inwood-hill-park-nature-center-nature-book-club/
LOCATION:Inwood Hill Park Nature Center\, 218th St and Indian Rd. Entrance\, walk north\, New York\, NY\, 10034\, United States
CATEGORIES:Written Word
ATTACH;FMTTYPE=image/jpeg:https://heightsites.com/wp-content/uploads/2018/02/feat_book_discussions_book_tea_776x437.jpg
GEO:40.8730252;-73.9184229
X-APPLE-STRUCTURED-LOCATION;VALUE=URI;X-ADDRESS=Inwood Hill Park Nature Center 218th St and Indian Rd. Entrance walk north New York NY 10034 United States;X-APPLE-RADIUS=500;X-TITLE=218th St and Indian Rd. Entrance\, walk north:geo:-73.9184229,40.8730252
END:VEVENT
BEGIN:VEVENT
DTSTART;TZID=America/New_York:20260507T160000
DTEND;TZID=America/New_York:20260507T170000
DTSTAMP:20260423T104550
CREATED:20260422T183020Z
LAST-MODIFIED:20260422T183020Z
UID:10009010-1778169600-1778173200@heightsites.com
SUMMARY:Fort Washington Library: Neighborhood Book Club 'Lake Effect' by Cynthia D'Aprix Sweeney
DESCRIPTION:Reading keeps us connected. Join us for a neighborhood book club at the Fort Washington Branch! \nThe New York Public Library and WNYC—two indispensable New York institutions—are partnering to host a book club that brings New Yorkers together and fosters community. This book club will take place IN PERSON at the Fort Washington Branch. \nThe April title is Cynthia D’Aprix Sweeney’s Lake Effect – a wry and tender portrait of two families forever changed by one lovestruck decision that will reverberate for decades. \nIt’s 1977 and an air of restlessness has settled on the residents of Cambridge Road in Rochester\, New York\, a place long fueled by the booming fortunes of Kodak and Xerox and\, for some\, the mores of the Catholic church. When Nina Larkin is given a copy of The Joy of Sex by her newly divorced friend\, she can no longer dismiss the nearly nonexistent intimacy of her marriage. Just as her oldest child\, Clara\, is falling in love for the first time\, Nina finds herself longing for the forbidden: a midlife awakening. An intoxicating fling with a prominent neighbor brings Nina a freedom she never thought possible—but also risks the reputations of both families and unravels Clara’s world\, just as she stands on the threshold of adulthood. \nYears later\, Clara\, now a successful food stylist in New York City\, has never been able to move past the long-ago scandal. Drawn back home by the pull of a family wedding and wrestling with her own demons\, she makes a pivotal decision that turns her life upside down. Written with Cynthia D’Aprix Sweeney’s signature humor and insight\, Lake Effect is a wise and probing look at love and desire\, mothers and daughters\, loss and grief\, and what we owe the people we love most.
URL:https://heightsites.com/event/fort-washington-library-neighborhood-book-club-lake-effect-by-cynthia-daprix-sweeney/
LOCATION:Fort Washington Library\, 535 West 179th Street\, New York\, NY\, 10033
CATEGORIES:Written Word
ATTACH;FMTTYPE=image/jpeg:https://heightsites.com/wp-content/uploads/2026/04/lake_effect_credit_ecco-scaled.jpg
GEO:40.8478792;-73.9338466
X-APPLE-STRUCTURED-LOCATION;VALUE=URI;X-ADDRESS=Fort Washington Library 535 West 179th Street New York NY 10033;X-APPLE-RADIUS=500;X-TITLE=535 West 179th Street:geo:-73.9338466,40.8478792
END:VEVENT
END:VCALENDAR