BEGIN:VCALENDAR
VERSION:2.0
PRODID:-//HeightSites - ECPv6.15.17.1//NONSGML v1.0//EN
CALSCALE:GREGORIAN
METHOD:PUBLISH
X-WR-CALNAME:HeightSites
X-ORIGINAL-URL:https://heightsites.com
X-WR-CALDESC:Events for HeightSites
REFRESH-INTERVAL;VALUE=DURATION:PT1H
X-Robots-Tag:noindex
X-PUBLISHED-TTL:PT1H
BEGIN:VTIMEZONE
TZID:America/New_York
BEGIN:DAYLIGHT
TZOFFSETFROM:-0500
TZOFFSETTO:-0400
TZNAME:EDT
DTSTART:20240310T070000
END:DAYLIGHT
BEGIN:STANDARD
TZOFFSETFROM:-0400
TZOFFSETTO:-0500
TZNAME:EST
DTSTART:20241103T060000
END:STANDARD
BEGIN:DAYLIGHT
TZOFFSETFROM:-0500
TZOFFSETTO:-0400
TZNAME:EDT
DTSTART:20250309T070000
END:DAYLIGHT
BEGIN:STANDARD
TZOFFSETFROM:-0400
TZOFFSETTO:-0500
TZNAME:EST
DTSTART:20251102T060000
END:STANDARD
BEGIN:DAYLIGHT
TZOFFSETFROM:-0500
TZOFFSETTO:-0400
TZNAME:EDT
DTSTART:20260308T070000
END:DAYLIGHT
BEGIN:STANDARD
TZOFFSETFROM:-0400
TZOFFSETTO:-0500
TZNAME:EST
DTSTART:20261101T060000
END:STANDARD
END:VTIMEZONE
BEGIN:VEVENT
DTSTART;TZID=America/New_York:20251002T203000
DTEND;TZID=America/New_York:20251002T220000
DTSTAMP:20260420T210901
CREATED:20230311T161005Z
LAST-MODIFIED:20250927T234105Z
UID:10001200-1759437000-1759442400@heightsites.com
SUMMARY:Ed McGowan: Concussion Comedy at Le Cheile
DESCRIPTION:Thursday\, October 2nd\, comedy is back at Le Chélie! Come out and laugh with this hilarious lineup🔥🔥 \n\nCab Washington (HBO’s “Insecure”\, Cracked Comedy\, Onlyfans LMAOF)\nKelly Bachman (FX’s “Hysterical”\, NY Comedy Festival)\nPranav Behari (Amazon\, HBO’s The Other Two)\nAriel Evans (HBO\, SiriusXM)\nTommy Bayer (Winner of Funniest Person in Minneapolis)\nHarrison Tweed (UCB\, NY Comedy Festival)\nEd McGowan (Netflix is a Joke Fest\, “Working Classholes” podcast)\n(*Lineup subject to change without notice)\n\nOne drink or food item will be required. Seating starts at 8:00pm upstairs at Le Chéile\, 839 W 181st St\, NY\, NY 10033.  \nTICKETS ARE AVAILABLE ON EVENTBRITE OR AT THE DOOR FOR $10(cash or Venmo). \nEVENTBRITE HERE \nIF PURCHASING INDIVIDUAL TICKETS AS PART OF A LARGER GROUP. PLEASE MESSAGE WITH GROUP SIZE SO YOU CAN ALL SIT TOGETHER.
URL:https://heightsites.com/event/uptown-arts-stroll-concussion-comedy-at-le-cheile/
LOCATION:Le Chéile NYC\, 839 W 181st St\, New York\, NY\, 10033\, United States
CATEGORIES:Unique Events
ATTACH;FMTTYPE=image/png:https://heightsites.com/wp-content/uploads/2023/03/Concussion-Comedy-September-2024.png
GEO:40.8514952;-73.9399876
X-APPLE-STRUCTURED-LOCATION;VALUE=URI;X-ADDRESS=Le Chéile NYC 839 W 181st St New York NY 10033 United States;X-APPLE-RADIUS=500;X-TITLE=839 W 181st St:geo:-73.9399876,40.8514952
END:VEVENT
END:VCALENDAR