BEGIN:VCALENDAR
VERSION:2.0
PRODID:-//HeightSites - ECPv6.15.17.1//NONSGML v1.0//EN
CALSCALE:GREGORIAN
METHOD:PUBLISH
X-WR-CALNAME:HeightSites
X-ORIGINAL-URL:https://heightsites.com
X-WR-CALDESC:Events for HeightSites
REFRESH-INTERVAL;VALUE=DURATION:PT1H
X-Robots-Tag:noindex
X-PUBLISHED-TTL:PT1H
BEGIN:VTIMEZONE
TZID:America/New_York
BEGIN:DAYLIGHT
TZOFFSETFROM:-0500
TZOFFSETTO:-0400
TZNAME:EDT
DTSTART:20240310T070000
END:DAYLIGHT
BEGIN:STANDARD
TZOFFSETFROM:-0400
TZOFFSETTO:-0500
TZNAME:EST
DTSTART:20241103T060000
END:STANDARD
BEGIN:DAYLIGHT
TZOFFSETFROM:-0500
TZOFFSETTO:-0400
TZNAME:EDT
DTSTART:20250309T070000
END:DAYLIGHT
BEGIN:STANDARD
TZOFFSETFROM:-0400
TZOFFSETTO:-0500
TZNAME:EST
DTSTART:20251102T060000
END:STANDARD
BEGIN:DAYLIGHT
TZOFFSETFROM:-0500
TZOFFSETTO:-0400
TZNAME:EDT
DTSTART:20260308T070000
END:DAYLIGHT
BEGIN:STANDARD
TZOFFSETFROM:-0400
TZOFFSETTO:-0500
TZNAME:EST
DTSTART:20261101T060000
END:STANDARD
END:VTIMEZONE
BEGIN:VEVENT
DTSTART;TZID=America/New_York:20250123T180000
DTEND;TZID=America/New_York:20250123T200000
DTSTAMP:20260420T074201
CREATED:20240529T011404Z
LAST-MODIFIED:20250115T180306Z
UID:10001420-1737655200-1737662400@heightsites.com
SUMMARY:Word Up Recirculation: Name/Gender Marker Change Assistance
DESCRIPTION:Thursday\, January 23\, 2025 – 6:00pm to 8:00pm\n\n\n\n\n\n\nRECIRCULATION A project of Word Up\n876 Riverside Drive (near 160th St.)\n\nNew York\, NY 10032\n\n\n\n\n\n\nAdvocates for Trans Law Students at Fordham University School of Law will be doing Name/Gender Marker Change petition assistance at Recirculation\, a project of Word Up. \nFor more information\, check out https://www.advocatesfortranslaw.org/
URL:https://heightsites.com/event/word-up-recirculation-name-gender-change/
LOCATION:Word Up Recirculation\, 876 Riverside Drive (near 160th St.)\, New York\, NY\, United States
CATEGORIES:Unique Events
ATTACH;FMTTYPE=image/jpeg:https://heightsites.com/wp-content/uploads/2024/05/Name-Gender-Change-Word-Up.jpg
GEO:40.8370311;-73.9466701
X-APPLE-STRUCTURED-LOCATION;VALUE=URI;X-ADDRESS=Word Up Recirculation 876 Riverside Drive (near 160th St.) New York NY United States;X-APPLE-RADIUS=500;X-TITLE=876 Riverside Drive (near 160th St.):geo:-73.9466701,40.8370311
END:VEVENT
END:VCALENDAR