BEGIN:VCALENDAR
VERSION:2.0
PRODID:-//HeightSites - ECPv6.15.17.1//NONSGML v1.0//EN
CALSCALE:GREGORIAN
METHOD:PUBLISH
X-ORIGINAL-URL:https://heightsites.com
X-WR-CALDESC:Events for HeightSites
REFRESH-INTERVAL;VALUE=DURATION:PT1H
X-Robots-Tag:noindex
X-PUBLISHED-TTL:PT1H
BEGIN:VTIMEZONE
TZID:America/New_York
BEGIN:DAYLIGHT
TZOFFSETFROM:-0500
TZOFFSETTO:-0400
TZNAME:EDT
DTSTART:20250309T070000
END:DAYLIGHT
BEGIN:STANDARD
TZOFFSETFROM:-0400
TZOFFSETTO:-0500
TZNAME:EST
DTSTART:20251102T060000
END:STANDARD
BEGIN:DAYLIGHT
TZOFFSETFROM:-0500
TZOFFSETTO:-0400
TZNAME:EDT
DTSTART:20260308T070000
END:DAYLIGHT
BEGIN:STANDARD
TZOFFSETFROM:-0400
TZOFFSETTO:-0500
TZNAME:EST
DTSTART:20261101T060000
END:STANDARD
BEGIN:DAYLIGHT
TZOFFSETFROM:-0500
TZOFFSETTO:-0400
TZNAME:EDT
DTSTART:20270314T070000
END:DAYLIGHT
BEGIN:STANDARD
TZOFFSETFROM:-0400
TZOFFSETTO:-0500
TZNAME:EST
DTSTART:20271107T060000
END:STANDARD
END:VTIMEZONE
BEGIN:VEVENT
DTSTART;TZID=America/New_York:20260421T193000
DTEND;TZID=America/New_York:20260421T220000
DTSTAMP:20260419T083354
CREATED:20221105T122919Z
LAST-MODIFIED:20260418T182641Z
UID:10001199-1776799800-1776808800@heightsites.com
SUMMARY:Jazz WaHi Weekly Jam at Kismat
DESCRIPTION:Tuesday in the Heights means Jazz at Kismat!
URL:https://heightsites.com/event/jazz-wahi-weekly-jam-at-kismat/
LOCATION:Kismat Indian Restaurant\, 603 Fort Washington Ave\, New York\, NY\, 10040\, United States
CATEGORIES:Music,Workshop
ATTACH;FMTTYPE=image/jpeg:https://heightsites.com/wp-content/uploads/2021/05/New-Kismat-Bar-Jazz-WaHi.jpeg
GEO:40.8553122;-73.9370321
X-APPLE-STRUCTURED-LOCATION;VALUE=URI;X-ADDRESS=Kismat Indian Restaurant 603 Fort Washington Ave New York NY 10040 United States;X-APPLE-RADIUS=500;X-TITLE=603 Fort Washington Ave:geo:-73.9370321,40.8553122
END:VEVENT
END:VCALENDAR