BEGIN:VCALENDAR
VERSION:2.0
PRODID:-//HeightSites - ECPv6.15.17.1//NONSGML v1.0//EN
CALSCALE:GREGORIAN
METHOD:PUBLISH
X-ORIGINAL-URL:https://heightsites.com
X-WR-CALDESC:Events for HeightSites
REFRESH-INTERVAL;VALUE=DURATION:PT1H
X-Robots-Tag:noindex
X-PUBLISHED-TTL:PT1H
BEGIN:VTIMEZONE
TZID:America/New_York
BEGIN:DAYLIGHT
TZOFFSETFROM:-0500
TZOFFSETTO:-0400
TZNAME:EDT
DTSTART:20240310T070000
END:DAYLIGHT
BEGIN:STANDARD
TZOFFSETFROM:-0400
TZOFFSETTO:-0500
TZNAME:EST
DTSTART:20241103T060000
END:STANDARD
BEGIN:DAYLIGHT
TZOFFSETFROM:-0500
TZOFFSETTO:-0400
TZNAME:EDT
DTSTART:20250309T070000
END:DAYLIGHT
BEGIN:STANDARD
TZOFFSETFROM:-0400
TZOFFSETTO:-0500
TZNAME:EST
DTSTART:20251102T060000
END:STANDARD
BEGIN:DAYLIGHT
TZOFFSETFROM:-0500
TZOFFSETTO:-0400
TZNAME:EDT
DTSTART:20260308T070000
END:DAYLIGHT
BEGIN:STANDARD
TZOFFSETFROM:-0400
TZOFFSETTO:-0500
TZNAME:EST
DTSTART:20261101T060000
END:STANDARD
END:VTIMEZONE
BEGIN:VEVENT
DTSTART;TZID=America/New_York:20251115T180000
DTEND;TZID=America/New_York:20251115T210000
DTSTAMP:20260423T115844
CREATED:20251028T215821Z
LAST-MODIFIED:20251030T152425Z
UID:10007983-1763229600-1763240400@heightsites.com
SUMMARY:Word Up RECIRCULATION: Screening of JULIA ALVAREZ: A LIFE REIMAGINED
DESCRIPTION:Word Up Community Bookshop / LIbrería Comunitaria and Dominican Writers Association present a screening of PBS American Masters’s Julia Alvarez: A Life Reimagined. Please register in advance. \nThe Dominican-American poet and novelist Julia Alvarez burst onto the literary scene and blazed a trail for a generation of Latino authors .  Her semi-autobiographical novel\, How the Garcia Girls Lost Their Accents\, was published in 1991\, followed in 1994 by In the Time of the Butterflies\, which sold over a million copies and raised global awareness about life under Dominican dictator Rafael Trujillo. Alvarez’s work includes three nonfiction books\, 3 poetry collections\, 11 books for children and young adults and 7 literary novels. This new documentary opens a window into her extraordinary journey from an idyllic\, privileged childhood in the Dominican Republic to a life of exile in New York City to a brilliant literary career that shows no sign of slowing down. At 74\, she recently published the critically acclaimed novel The Cemetery of Untold Stories. \nFilmed in the U.S. and the Dominican Republic\, it features extensive interviews with Alvarez\, her family\, and her literary contemporaries. Produced and directed by Adriana Bosch\,  award-winning documentary filmmaker who served as series producer on the PBS series Latino Americans (2013) and Latin Music USA (2009).
URL:https://heightsites.com/event/word-up-recirculation-screening-of-julia-alvarez-a-life-reimagined/
LOCATION:Word Up Recirculation\, 876 Riverside Drive (near 160th St.)\, New York\, NY\, United States
CATEGORIES:Film
ATTACH;FMTTYPE=image/png:https://heightsites.com/wp-content/uploads/2025/10/WU_PBSJuliaReimagined_IG-.png
ORGANIZER;CN="Word Up":MAILTO:Community Bookshop - Libreria Comunitaria:noreply@facebookmail.com
GEO:40.8370311;-73.9466701
X-APPLE-STRUCTURED-LOCATION;VALUE=URI;X-ADDRESS=Word Up Recirculation 876 Riverside Drive (near 160th St.) New York NY United States;X-APPLE-RADIUS=500;X-TITLE=876 Riverside Drive (near 160th St.):geo:-73.9466701,40.8370311
END:VEVENT
END:VCALENDAR