BEGIN:VCALENDAR
VERSION:2.0
PRODID:-//HeightSites - ECPv6.15.17.1//NONSGML v1.0//EN
CALSCALE:GREGORIAN
METHOD:PUBLISH
X-WR-CALNAME:HeightSites
X-ORIGINAL-URL:https://heightsites.com
X-WR-CALDESC:Events for HeightSites
REFRESH-INTERVAL;VALUE=DURATION:PT1H
X-Robots-Tag:noindex
X-PUBLISHED-TTL:PT1H
BEGIN:VTIMEZONE
TZID:America/New_York
BEGIN:DAYLIGHT
TZOFFSETFROM:-0500
TZOFFSETTO:-0400
TZNAME:EDT
DTSTART:20250309T070000
END:DAYLIGHT
BEGIN:STANDARD
TZOFFSETFROM:-0400
TZOFFSETTO:-0500
TZNAME:EST
DTSTART:20251102T060000
END:STANDARD
BEGIN:DAYLIGHT
TZOFFSETFROM:-0500
TZOFFSETTO:-0400
TZNAME:EDT
DTSTART:20260308T070000
END:DAYLIGHT
BEGIN:STANDARD
TZOFFSETFROM:-0400
TZOFFSETTO:-0500
TZNAME:EST
DTSTART:20261101T060000
END:STANDARD
BEGIN:DAYLIGHT
TZOFFSETFROM:-0500
TZOFFSETTO:-0400
TZNAME:EDT
DTSTART:20270314T070000
END:DAYLIGHT
BEGIN:STANDARD
TZOFFSETFROM:-0400
TZOFFSETTO:-0500
TZNAME:EST
DTSTART:20271107T060000
END:STANDARD
END:VTIMEZONE
BEGIN:VEVENT
DTSTART;TZID=America/New_York:20260426T090000
DTEND;TZID=America/New_York:20260426T223000
DTSTAMP:20260421T075114
CREATED:20260406T184710Z
LAST-MODIFIED:20260406T184710Z
UID:10008958-1777194000-1777242600@heightsites.com
SUMMARY:Inwood Hill Park: City Nature Challenge Spring Ephemerals Walk
DESCRIPTION:For the City Nature Challenge\, join NYC Parks staff on a hike around Inwood Hill Park to explore the diversity of spring wildflowers. Volunteers will learn how to identify these plants and learn how to make iNaturalist observations of any other signs of nature you find along the way. Please bring water and a snack as well as your smartphone or camera! We will stay on trails and the hike will not be strenuous\, but we will be walking for about an hour and a half\, so please dress appropriately. If you do not know how to use iNaturalist\, arrive 15 minutes early and we will show you how! \nLocation:  Payson Playground\, 285-287 Dyckman St \nRegistration is required: https://www.nycgovparks.org/reg/stewardship/19268
URL:https://heightsites.com/event/inwood-hill-park-city-nature-challenge-spring-ephemerals-walk/
LOCATION:Inwood Hill Park\, Payson Playground\, Henshaw St. & Dyckman St.\, New York\, NY\, 10034\, United States
ATTACH;FMTTYPE=image/jpeg:https://heightsites.com/wp-content/uploads/2019/04/605cc02169399.jpeg
GEO:40.8672618;-73.9293449
X-APPLE-STRUCTURED-LOCATION;VALUE=URI;X-ADDRESS=Inwood Hill Park Payson Playground Henshaw St. & Dyckman St. New York NY 10034 United States;X-APPLE-RADIUS=500;X-TITLE=Henshaw St. & Dyckman St.:geo:-73.9293449,40.8672618
END:VEVENT
BEGIN:VEVENT
DTSTART;TZID=America/New_York:20260427T100000
DTEND;TZID=America/New_York:20260427T233000
DTSTAMP:20260421T075114
CREATED:20260420T172941Z
LAST-MODIFIED:20260420T172941Z
UID:10008995-1777284000-1777332600@heightsites.com
SUMMARY:Inwood Hill Park: City Nature Challenge Spring Ephemerals Walk
DESCRIPTION:For the City Nature Challenge\, join NYC Parks staff on a hike around Inwood Hill Park to explore the diversity of spring wildflowers. Volunteers will learn how to identify these plants and learn how to make iNaturalist observations of any other signs of nature you find along the way. Please bring water and a snack as well as your smartphone or camera! We will stay on trails and the hike will not be strenuous\, but we will be walking for about an hour and a half\, so please dress appropriately. If you do not know how to use iNaturalist\, arrive 15 minutes early and we will show you how! \nLocation:  Payson Playground\, 285-287 Dyckman St \nRegistration is required: https://www.nycgovparks.org/reg/stewardship/19268
URL:https://heightsites.com/event/inwood-hill-park-city-nature-challenge-spring-ephemerals-walk-3/
LOCATION:Inwood Hill Park\, Payson Playground\, Henshaw St. & Dyckman St.\, New York\, NY\, 10034\, United States
ATTACH;FMTTYPE=image/jpeg:https://heightsites.com/wp-content/uploads/2019/04/605cc02169399.jpeg
GEO:40.8672618;-73.9293449
X-APPLE-STRUCTURED-LOCATION;VALUE=URI;X-ADDRESS=Inwood Hill Park Payson Playground Henshaw St. & Dyckman St. New York NY 10034 United States;X-APPLE-RADIUS=500;X-TITLE=Henshaw St. & Dyckman St.:geo:-73.9293449,40.8672618
END:VEVENT
END:VCALENDAR