BEGIN:VCALENDAR
VERSION:2.0
PRODID:-//HeightSites - ECPv6.15.17.1//NONSGML v1.0//EN
CALSCALE:GREGORIAN
METHOD:PUBLISH
X-WR-CALNAME:HeightSites
X-ORIGINAL-URL:https://heightsites.com
X-WR-CALDESC:Events for HeightSites
REFRESH-INTERVAL;VALUE=DURATION:PT1H
X-Robots-Tag:noindex
X-PUBLISHED-TTL:PT1H
BEGIN:VTIMEZONE
TZID:America/New_York
BEGIN:DAYLIGHT
TZOFFSETFROM:-0500
TZOFFSETTO:-0400
TZNAME:EDT
DTSTART:20250309T070000
END:DAYLIGHT
BEGIN:STANDARD
TZOFFSETFROM:-0400
TZOFFSETTO:-0500
TZNAME:EST
DTSTART:20251102T060000
END:STANDARD
BEGIN:DAYLIGHT
TZOFFSETFROM:-0500
TZOFFSETTO:-0400
TZNAME:EDT
DTSTART:20260308T070000
END:DAYLIGHT
BEGIN:STANDARD
TZOFFSETFROM:-0400
TZOFFSETTO:-0500
TZNAME:EST
DTSTART:20261101T060000
END:STANDARD
BEGIN:DAYLIGHT
TZOFFSETFROM:-0500
TZOFFSETTO:-0400
TZNAME:EDT
DTSTART:20270314T070000
END:DAYLIGHT
BEGIN:STANDARD
TZOFFSETFROM:-0400
TZOFFSETTO:-0500
TZNAME:EST
DTSTART:20271107T060000
END:STANDARD
END:VTIMEZONE
BEGIN:VEVENT
DTSTART;TZID=America/New_York:20260424T190000
DTEND;TZID=America/New_York:20260424T210000
DTSTAMP:20260422T041410
CREATED:20260417T221721Z
LAST-MODIFIED:20260417T221721Z
UID:10008992-1777057200-1777064400@heightsites.com
SUMMARY:Word Up Recirculation : Q&T Community Open Mic
DESCRIPTION:Q&T Community is excited to host an Open Mic night of queer music\, poetry\, and storytelling. \nQ&T Community is a small LGBTQ+ group based at Word Up Community Bookshop. Its weekly virtual writing group celebrated 5 years of intimate co-working and creative space in April 2024. Run by a team of one\, its monthly game afternoons\, annual pride picnic\, and occasional open mics supplement its program. \nSign-ups start at 6:30pm. Open mic starts at 7pm. \nIf you have dietary restrictions\, questions\, comments\, or concerns\, please email us at qntcommunity@gmail.com. \n***This is meant to be an open space for mingling and getting to know more Uptown LGBTQ+ people. This is an explicitly LGBTQ+ space\, which means that we expect people to respect each other’s various modes of expression\, pronouns\, and showing up. \n 
URL:https://heightsites.com/event/word-up-recirculation-qt-community-open-mic/
LOCATION:Word Up Recirculation\, 876 Riverside Drive (near 160th St.)\, New York\, NY\, United States
CATEGORIES:Unique Events
ATTACH;FMTTYPE=image/jpeg:https://heightsites.com/wp-content/uploads/2026/04/qt-open-mic-april-2026.jpg
ORGANIZER;CN="Word Up":MAILTO:Community Bookshop - Libreria Comunitaria:noreply@facebookmail.com
GEO:40.8370311;-73.9466701
X-APPLE-STRUCTURED-LOCATION;VALUE=URI;X-ADDRESS=Word Up Recirculation 876 Riverside Drive (near 160th St.) New York NY United States;X-APPLE-RADIUS=500;X-TITLE=876 Riverside Drive (near 160th St.):geo:-73.9466701,40.8370311
END:VEVENT
END:VCALENDAR