BEGIN:VCALENDAR
VERSION:2.0
PRODID:-//HeightSites - ECPv6.15.17.1//NONSGML v1.0//EN
CALSCALE:GREGORIAN
METHOD:PUBLISH
X-ORIGINAL-URL:https://heightsites.com
X-WR-CALDESC:Events for HeightSites
REFRESH-INTERVAL;VALUE=DURATION:PT1H
X-Robots-Tag:noindex
X-PUBLISHED-TTL:PT1H
BEGIN:VTIMEZONE
TZID:America/New_York
BEGIN:DAYLIGHT
TZOFFSETFROM:-0500
TZOFFSETTO:-0400
TZNAME:EDT
DTSTART:20230312T070000
END:DAYLIGHT
BEGIN:STANDARD
TZOFFSETFROM:-0400
TZOFFSETTO:-0500
TZNAME:EST
DTSTART:20231105T060000
END:STANDARD
BEGIN:DAYLIGHT
TZOFFSETFROM:-0500
TZOFFSETTO:-0400
TZNAME:EDT
DTSTART:20240310T070000
END:DAYLIGHT
BEGIN:STANDARD
TZOFFSETFROM:-0400
TZOFFSETTO:-0500
TZNAME:EST
DTSTART:20241103T060000
END:STANDARD
BEGIN:DAYLIGHT
TZOFFSETFROM:-0500
TZOFFSETTO:-0400
TZNAME:EDT
DTSTART:20250309T070000
END:DAYLIGHT
BEGIN:STANDARD
TZOFFSETFROM:-0400
TZOFFSETTO:-0500
TZNAME:EST
DTSTART:20251102T060000
END:STANDARD
END:VTIMEZONE
BEGIN:VEVENT
DTSTART;TZID=America/New_York:20240915T160000
DTEND;TZID=America/New_York:20240915T173000
DTSTAMP:20260421T122509
CREATED:20240714T164146Z
LAST-MODIFIED:20240910T172926Z
UID:10001502-1726416000-1726421400@heightsites.com
SUMMARY:Margalit Fox reads "The Talented Mrs. Mandelbaum"
DESCRIPTION:Margalit Fox will read from her newest book\, The Talented Mrs. Mandelbaum. A true-crime tale set in 19C New York.  It tells the story of an impoverished immigrant’s rise in crime. \nMargalit Fox is the winner of the William Saroyan Prize for Literature. She is the author of Conan Doyle for the Defense\, and The Riddle of the Labyrinth. She is a former senior writer for the famed New York Times Obituary News Department. \nRefreshments at 3:30pm!
URL:https://heightsites.com/event/margalit-fox-reads-the-talented-mrs-mandelbaum/
LOCATION:Bruce Reynolds Memorial Garden\, Across from 10 Park Terrace EAST\, near W. 215 St.\, New York\, NY\, 10034\, United States
CATEGORIES:Written Word
ATTACH;FMTTYPE=image/jpeg:https://heightsites.com/wp-content/uploads/2024/07/M-Fox-Book-cover-jpg.jpg
GEO:40.8696078;-73.9175664
X-APPLE-STRUCTURED-LOCATION;VALUE=URI;X-ADDRESS=Bruce Reynolds Memorial Garden Across from 10 Park Terrace EAST near W. 215 St. New York NY 10034 United States;X-APPLE-RADIUS=500;X-TITLE=Across from 10 Park Terrace EAST\, near W. 215 St.:geo:-73.9175664,40.8696078
END:VEVENT
END:VCALENDAR