BEGIN:VCALENDAR
VERSION:2.0
PRODID:-//HeightSites - ECPv6.15.17.1//NONSGML v1.0//EN
CALSCALE:GREGORIAN
METHOD:PUBLISH
X-WR-CALNAME:HeightSites
X-ORIGINAL-URL:https://heightsites.com
X-WR-CALDESC:Events for HeightSites
REFRESH-INTERVAL;VALUE=DURATION:PT1H
X-Robots-Tag:noindex
X-PUBLISHED-TTL:PT1H
BEGIN:VTIMEZONE
TZID:America/New_York
BEGIN:DAYLIGHT
TZOFFSETFROM:-0500
TZOFFSETTO:-0400
TZNAME:EDT
DTSTART:20250309T070000
END:DAYLIGHT
BEGIN:STANDARD
TZOFFSETFROM:-0400
TZOFFSETTO:-0500
TZNAME:EST
DTSTART:20251102T060000
END:STANDARD
BEGIN:DAYLIGHT
TZOFFSETFROM:-0500
TZOFFSETTO:-0400
TZNAME:EDT
DTSTART:20260308T070000
END:DAYLIGHT
BEGIN:STANDARD
TZOFFSETFROM:-0400
TZOFFSETTO:-0500
TZNAME:EST
DTSTART:20261101T060000
END:STANDARD
BEGIN:DAYLIGHT
TZOFFSETFROM:-0500
TZOFFSETTO:-0400
TZNAME:EDT
DTSTART:20270314T070000
END:DAYLIGHT
BEGIN:STANDARD
TZOFFSETFROM:-0400
TZOFFSETTO:-0500
TZNAME:EST
DTSTART:20271107T060000
END:STANDARD
END:VTIMEZONE
BEGIN:VEVENT
DTSTART;TZID=America/New_York:20260417T100000
DTEND;TZID=America/New_York:20260417T120000
DTSTAMP:20260422T095056
CREATED:20260406T183752Z
LAST-MODIFIED:20260415T184103Z
UID:10008957-1776420000-1776427200@heightsites.com
SUMMARY:Sherman Creek: Educational Tour
DESCRIPTION:In preparation for City Nature Challenge (4/24-4/27)\, join NYC Parks staff on a hike around Sherman Creek to explore the diversity of spring wildflowers. Volunteers will learn how to identify these plants and how to make iNaturalist observations of any other signs of nature you find along the way. Please bring water and a snack as well as your smartphone or camera! We will stay on trails and the hike will not be strenuous\, but we will be walking for about an hour and a half\, so please dress appropriately. If you do not know how to use iNaturalist\, arrive 15 minutes early and we will show you how! \nMeeting Location: 199th St and 10th Ave\nFree — Registration is required: https://www.nycgovparks.org/reg/stewardship/19206
URL:https://heightsites.com/event/sherman-creek-educational-tour/
LOCATION:Sherman Creek Waterfront Park\, 3703 10th Ave. (@ Dyckman St.)\, New York\, NY\, 10034\, United States
CATEGORIES:Natural History
ATTACH;FMTTYPE=image/jpeg:https://heightsites.com/wp-content/uploads/2022/10/Sherman-Creek.jpeg
GEO:40.8589195;-73.9224277
X-APPLE-STRUCTURED-LOCATION;VALUE=URI;X-ADDRESS=Sherman Creek Waterfront Park 3703 10th Ave. (@ Dyckman St.) New York NY 10034 United States;X-APPLE-RADIUS=500;X-TITLE=3703 10th Ave. (@ Dyckman St.):geo:-73.9224277,40.8589195
END:VEVENT
BEGIN:VEVENT
DTSTART;TZID=America/New_York:20260214T100000
DTEND;TZID=America/New_York:20260214T120000
DTSTAMP:20260422T095056
CREATED:20260202T181654Z
LAST-MODIFIED:20260202T181654Z
UID:10008797-1771063200-1771070400@heightsites.com
SUMMARY:Sherman Creek: Environmental Science Series (NYRP)
DESCRIPTION:New York Restoration Project (NYRP) is pleased to invite you to the Sherman Creek Environmental Science Series\, a three-part hybrid seminar series featuring leading scientists whose work has shaped our understanding of estuarine restoration\, water quality\, and wetland health in Northern Manhattan. \nThese sessions\, held in person at the Sherman Creek Center and online\, will explore critical environmental issues affecting Sherman Creek and the broader Harlem River estuary. The series is designed to be of interest to be accessible to community members while also helping inform the relaunch of our Sherman Creek Stewards volunteer and community science program. \n\nFebruary 14: Wetland Function\, Nutrient Cycling\, and Climate Resilience + walking tour*\nDr. Mary Alldred\, Associate Professor\, Center for Earth and Environmental Science\, SUNY Plattsburgh\nDr. Alldred will present research on the development of ecosystem services\, including nitrogen-removal processes that improve local water quality\, during restoration of the wetlands in the Living Shoreline at Sherman Creek. She will share restoration techniques implemented to address challenges and successfully establish a functioning wetland ecosystem. Discussion will explore how to build on the successes and knowledge we have gained at Sherman Creek. \n*This session will include a guided tour of the Sherman Creek Living Shoreline. In-person attendance is strongly encouraged.
URL:https://heightsites.com/event/sherman-creek-environmental-science-series-nyrp-2/
LOCATION:Sherman Creek Waterfront Park\, 3703 10th Ave. (@ Dyckman St.)\, New York\, NY\, 10034\, United States
CATEGORIES:Natural History
ATTACH;FMTTYPE=image/jpeg:https://heightsites.com/wp-content/uploads/2026/02/nyrp-sherman-creek-stewards.jpeg
GEO:40.8589195;-73.9224277
X-APPLE-STRUCTURED-LOCATION;VALUE=URI;X-ADDRESS=Sherman Creek Waterfront Park 3703 10th Ave. (@ Dyckman St.) New York NY 10034 United States;X-APPLE-RADIUS=500;X-TITLE=3703 10th Ave. (@ Dyckman St.):geo:-73.9224277,40.8589195
END:VEVENT
BEGIN:VEVENT
DTSTART;TZID=America/New_York:20260207T100000
DTEND;TZID=America/New_York:20260207T120000
DTSTAMP:20260422T095056
CREATED:20260202T181218Z
LAST-MODIFIED:20260202T181835Z
UID:10008796-1770458400-1770465600@heightsites.com
SUMMARY:Sherman Creek: Environmental Science Series (NYRP)
DESCRIPTION:New York Restoration Project (NYRP) is pleased to invite you to the Sherman Creek Environmental Science Series\, a three-part hybrid seminar series featuring leading scientists whose work has shaped our understanding of estuarine restoration\, water quality\, and wetland health in Northern Manhattan. \nThese sessions\, held in person at the Sherman Creek Center and online\, will explore critical environmental issues affecting Sherman Creek and the broader Harlem River estuary. The series is designed to be of interest to be accessible to community members while also helping inform the relaunch of our Sherman Creek Stewards volunteer and community science program. \n\nSaturday\, February 7\nMarine Invertebrate Biodiversity\nDr. Chester Zarnoch\, Professor of Environmental Studies and Biology at Baruch College and the CUNY Graduate Center\nDr. Zarnoch will address enhancing invertebrate biodiversity through coastal restoration in the NYC Estuary. Topics of discussion will include monitoring\, biodiversity research and oyster restoration at Sherman Creek.
URL:https://heightsites.com/event/sherman-creek-environmental-science-series-nyrp/
LOCATION:Sherman Creek Waterfront Park\, 3703 10th Ave. (@ Dyckman St.)\, New York\, NY\, 10034\, United States
CATEGORIES:Natural History
ATTACH;FMTTYPE=image/jpeg:https://heightsites.com/wp-content/uploads/2026/02/nyrp-sherman-creek-stewards.jpeg
GEO:40.8589195;-73.9224277
X-APPLE-STRUCTURED-LOCATION;VALUE=URI;X-ADDRESS=Sherman Creek Waterfront Park 3703 10th Ave. (@ Dyckman St.) New York NY 10034 United States;X-APPLE-RADIUS=500;X-TITLE=3703 10th Ave. (@ Dyckman St.):geo:-73.9224277,40.8589195
END:VEVENT
END:VCALENDAR