BEGIN:VCALENDAR
VERSION:2.0
PRODID:-//HeightSites - ECPv6.15.17.1//NONSGML v1.0//EN
CALSCALE:GREGORIAN
METHOD:PUBLISH
X-ORIGINAL-URL:https://heightsites.com
X-WR-CALDESC:Events for HeightSites
REFRESH-INTERVAL;VALUE=DURATION:PT1H
X-Robots-Tag:noindex
X-PUBLISHED-TTL:PT1H
BEGIN:VTIMEZONE
TZID:America/New_York
BEGIN:DAYLIGHT
TZOFFSETFROM:-0500
TZOFFSETTO:-0400
TZNAME:EDT
DTSTART:20240310T070000
END:DAYLIGHT
BEGIN:STANDARD
TZOFFSETFROM:-0400
TZOFFSETTO:-0500
TZNAME:EST
DTSTART:20241103T060000
END:STANDARD
BEGIN:DAYLIGHT
TZOFFSETFROM:-0500
TZOFFSETTO:-0400
TZNAME:EDT
DTSTART:20250309T070000
END:DAYLIGHT
BEGIN:STANDARD
TZOFFSETFROM:-0400
TZOFFSETTO:-0500
TZNAME:EST
DTSTART:20251102T060000
END:STANDARD
BEGIN:DAYLIGHT
TZOFFSETFROM:-0500
TZOFFSETTO:-0400
TZNAME:EDT
DTSTART:20260308T070000
END:DAYLIGHT
BEGIN:STANDARD
TZOFFSETFROM:-0400
TZOFFSETTO:-0500
TZNAME:EST
DTSTART:20261101T060000
END:STANDARD
END:VTIMEZONE
BEGIN:VEVENT
DTSTART;TZID=America/New_York:20251227T160000
DTEND;TZID=America/New_York:20251227T173000
DTSTAMP:20260420T191144
CREATED:20251219T182218Z
LAST-MODIFIED:20251220T173020Z
UID:10008727-1766851200-1766856600@heightsites.com
SUMMARY:Heights Mediation & Yoga: 2025 Closing Ceremony - Affirmations
DESCRIPTION:2025 Closing Ceremony at Heights Meditation & Yoga: Join us for a Sound Bath\, Land Offering\, and Affirmation Integration to close out the year with Love & Intention. \n\n\n \n\nThis Unique HMY Ceremonial Fundraiser is our way of integrating the collective intention to both give to oneself while helping to raise funds for others. Every dollar beyond the base fee goes to support HMY’s scholarship fund so that everyone\, regardless of financial status\, are able to attend our classes.\n \n\nThanks to you\, we have never turned anyone away.   Selfcare has been rebranded time and time again. This unique fundraiser is a reminder that investing in yourself is not selfish — investing in yourself is never selfish — and in this case your investments also support your local contemplative community center while nourishing your own mind\, body and heart.\n \n\nDuring this Ceremony you will be guided in:   Grounding Meditation A Communal Land Offering Sound Bath Integration Circle Affirmation   Join us to release what has been weighing on you\, to make space in your body\, mind\, and heart for your inner peace and light that will ripple throughout your interactions with others in every corner of your life. We look forward to meeting you!\n \n\n\nBook Now\n\n 
URL:https://heightsites.com/event/heights-mediation-yoga-2025-closing-ceremony-affirmations-with-love-intention/
LOCATION:Hebrew Tabernacle Synagogue\, 551 Fort Washington Ave (@185 St.)\, New York\, 10033\, United States
CATEGORIES:Unique Events,Workshop
GEO:40.8533949;-73.9374263
X-APPLE-STRUCTURED-LOCATION;VALUE=URI;X-ADDRESS=Hebrew Tabernacle Synagogue 551 Fort Washington Ave (@185 St.) New York 10033 United States;X-APPLE-RADIUS=500;X-TITLE=551 Fort Washington Ave (@185 St.):geo:-73.9374263,40.8533949
END:VEVENT
END:VCALENDAR