BEGIN:VCALENDAR
VERSION:2.0
PRODID:-//HeightSites - ECPv6.15.17.1//NONSGML v1.0//EN
CALSCALE:GREGORIAN
METHOD:PUBLISH
X-WR-CALNAME:HeightSites
X-ORIGINAL-URL:https://heightsites.com
X-WR-CALDESC:Events for HeightSites
REFRESH-INTERVAL;VALUE=DURATION:PT1H
X-Robots-Tag:noindex
X-PUBLISHED-TTL:PT1H
BEGIN:VTIMEZONE
TZID:America/New_York
BEGIN:DAYLIGHT
TZOFFSETFROM:-0500
TZOFFSETTO:-0400
TZNAME:EDT
DTSTART:20230312T070000
END:DAYLIGHT
BEGIN:STANDARD
TZOFFSETFROM:-0400
TZOFFSETTO:-0500
TZNAME:EST
DTSTART:20231105T060000
END:STANDARD
BEGIN:DAYLIGHT
TZOFFSETFROM:-0500
TZOFFSETTO:-0400
TZNAME:EDT
DTSTART:20240310T070000
END:DAYLIGHT
BEGIN:STANDARD
TZOFFSETFROM:-0400
TZOFFSETTO:-0500
TZNAME:EST
DTSTART:20241103T060000
END:STANDARD
BEGIN:DAYLIGHT
TZOFFSETFROM:-0500
TZOFFSETTO:-0400
TZNAME:EDT
DTSTART:20250309T070000
END:DAYLIGHT
BEGIN:STANDARD
TZOFFSETFROM:-0400
TZOFFSETTO:-0500
TZNAME:EST
DTSTART:20251102T060000
END:STANDARD
END:VTIMEZONE
BEGIN:VEVENT
DTSTART;TZID=America/New_York:20240908T120000
DTEND;TZID=America/New_York:20240908T160000
DTSTAMP:20260420T171146
CREATED:20240904T190359Z
LAST-MODIFIED:20240904T190359Z
UID:10001357-1725796800-1725811200@heightsites.com
SUMMARY:Inwood Hill Park: Uptown Kid Lit
DESCRIPTION:Uptown Kid Lit—Word Up’s mini book festival for kids—is back in 2024 to celebrate music! \nStop by Pat’s Lawn at Inwood Hill Park to meet beloved local authors & musicians with new books\, as they lead story times and activities\, workshops\, and more\, all with a musical twist. Along with new books\, Word Up will be giving away FREE books and school supplies. \nFeatured authors & artists:\nAdria Quiñones (Mi Tierra)\nAngie Cruz (Angélica y la güira)\nChris Raschka (Nothing: John Cage and 4’33”)\nCrudo Creates\nDemetrius Daniel\nHilda Eunice Burgos (Bodega Cats: Picture Purrfect)\nInju Keum\nJackie Azúa Kramer (I Am Salsa\, ¡Boogie En El Bronx!)\nJanelle Harper (My Block Looks Like)\nJazz WaHi\nJyoti Rajan Gopal (One Sweet Song)\nLeadlights Ensemble with Rachael Harrington\nLuz Maria Mack (¡Pequeña María descubre su baile! / Little María discovers her dance!)\nMegan Madison & Katie Madison (Our Skin: A First Conversation About Race)\nPablo KALAKA (Son de estos mares)\nStacy Davidowitz (Cut Loose!\, Camp Rolling Hill series) \nWord Up first launched Uptown Kid Lit in 2019 as a one-day festival for the Uptown community. After two years of virtual/hybrid programming in 2020 and 2021\, UKL returned in person in 2022 with a focus on comics as part of the three-day Uptown Comics Fest. Each year has gathered a unique and vibrant group of authors\, illustrators\, educators\, publishers\, editors\, craftspeople\, artists\, and community organizations—all to support and celebrate our neighborhood’s youngest readers and families. We hope you’ll join us in 2024 for our fourth year of Uptown Kid Lit at Inwood Hill Park! \nSpanish interpretation will be provided at the main stage presentations. \nThis is a free event. Please consider donating so that we can continue creating accessible programming by\, with\, and for our neighbors.
URL:https://heightsites.com/event/inwood-hill-park-uptown-kid-lit/
LOCATION:Inwood Hill Park\, Pat’s Lawn\, Enter at W. 218th & Indian Road\, New York\, NY\, 10034\, United States
CATEGORIES:Kids Activities,Written Word
ATTACH;FMTTYPE=image/png:https://heightsites.com/wp-content/uploads/2024/09/UpTown-Kids-Lit.png
GEO:40.8728492;-73.9183464
X-APPLE-STRUCTURED-LOCATION;VALUE=URI;X-ADDRESS=Inwood Hill Park Pat’s Lawn Enter at W. 218th & Indian Road New York NY 10034 United States;X-APPLE-RADIUS=500;X-TITLE=Enter at W. 218th & Indian Road:geo:-73.9183464,40.8728492
END:VEVENT
END:VCALENDAR