BEGIN:VCALENDAR
VERSION:2.0
PRODID:-//HeightSites - ECPv6.15.17.1//NONSGML v1.0//EN
CALSCALE:GREGORIAN
METHOD:PUBLISH
X-WR-CALNAME:HeightSites
X-ORIGINAL-URL:https://heightsites.com
X-WR-CALDESC:Events for HeightSites
REFRESH-INTERVAL;VALUE=DURATION:PT1H
X-Robots-Tag:noindex
X-PUBLISHED-TTL:PT1H
BEGIN:VTIMEZONE
TZID:America/New_York
BEGIN:DAYLIGHT
TZOFFSETFROM:-0500
TZOFFSETTO:-0400
TZNAME:EDT
DTSTART:20250309T070000
END:DAYLIGHT
BEGIN:STANDARD
TZOFFSETFROM:-0400
TZOFFSETTO:-0500
TZNAME:EST
DTSTART:20251102T060000
END:STANDARD
BEGIN:DAYLIGHT
TZOFFSETFROM:-0500
TZOFFSETTO:-0400
TZNAME:EDT
DTSTART:20260308T070000
END:DAYLIGHT
BEGIN:STANDARD
TZOFFSETFROM:-0400
TZOFFSETTO:-0500
TZNAME:EST
DTSTART:20261101T060000
END:STANDARD
BEGIN:DAYLIGHT
TZOFFSETFROM:-0500
TZOFFSETTO:-0400
TZNAME:EDT
DTSTART:20270314T070000
END:DAYLIGHT
BEGIN:STANDARD
TZOFFSETFROM:-0400
TZOFFSETTO:-0500
TZNAME:EST
DTSTART:20271107T060000
END:STANDARD
END:VTIMEZONE
BEGIN:VEVENT
DTSTART;TZID=America/New_York:20260503T140000
DTEND;TZID=America/New_York:20260503T170000
DTSTAMP:20260420T210509
CREATED:20260317T174417Z
LAST-MODIFIED:20260317T174525Z
UID:10008910-1777816800-1777827600@heightsites.com
SUMMARY:Inwood Art Works: Mostly Romantic
DESCRIPTION:A Community Chamber Concert featuring arrangements by Gilbert Dejean.
URL:https://heightsites.com/event/inwood-art-works-mostly-romantic/
LOCATION:Good Shepherd School Auditorium\, 620 Isham St. (Between Cooper & Seaman)\, New York\, NY\, 10034\, United States
ATTACH;FMTTYPE=image/png:https://heightsites.com/wp-content/uploads/2026/03/Mostly-Romantic_17x11-scaled.png
GEO:40.8692105;-73.9207583
X-APPLE-STRUCTURED-LOCATION;VALUE=URI;X-ADDRESS=Good Shepherd School Auditorium 620 Isham St. (Between Cooper & Seaman) New York NY 10034 United States;X-APPLE-RADIUS=500;X-TITLE=620 Isham St. (Between Cooper & Seaman):geo:-73.9207583,40.8692105
END:VEVENT
BEGIN:VEVENT
DTSTART;TZID=America/New_York:20260512T190000
DTEND;TZID=America/New_York:20260512T200000
DTSTAMP:20260420T210509
CREATED:20260416T213738Z
LAST-MODIFIED:20260416T213738Z
UID:10008989-1778612400-1778616000@heightsites.com
SUMMARY:Washington Heights Community Choir Spring Concert
DESCRIPTION:From Brahms’ lush harmonies to Celtic farewells\, American spirituals\, and Scottish folk songs\, this concert takes audiences on a musical journey across cultures and centuries. Weaving together threads of memory\, nature\, hope\, and community\, the program offers something for all music lovers to enjoy. Admission is free\, donations are welcomed!
URL:https://heightsites.com/event/washington-heights-community-choir-spring-concert-3/
LOCATION:St. Frances Cabrini Shrine\, 701 Fort Washington Avenue (@190th Street)\, New York\, NY\, 10040\, United States
CATEGORIES:Music
ATTACH;FMTTYPE=image/png:https://heightsites.com/wp-content/uploads/2026/04/Screenshot-2026-04-16-at-1.25.10-PM.png
ORGANIZER;CN="Washington Heights Community Choir":MAILTO:bethbreslauer@gmail.com
GEO:40.8584802;-73.9353851
X-APPLE-STRUCTURED-LOCATION;VALUE=URI;X-ADDRESS=St. Frances Cabrini Shrine 701 Fort Washington Avenue (@190th Street) New York NY 10040 United States;X-APPLE-RADIUS=500;X-TITLE=701 Fort Washington Avenue (@190th Street):geo:-73.9353851,40.8584802
END:VEVENT
BEGIN:VEVENT
DTSTART;TZID=America/New_York:20260516T150000
DTEND;TZID=America/New_York:20260516T160000
DTSTAMP:20260420T210509
CREATED:20260416T213618Z
LAST-MODIFIED:20260416T214652Z
UID:10008988-1778943600-1778947200@heightsites.com
SUMMARY:Washington Heights Community Choir Spring Concert
DESCRIPTION:From Brahms’ lush harmonies to Celtic farewells\, American spirituals\, and Scottish folk songs\, this concert takes audiences on a musical journey across cultures and centuries. Weaving together threads of memory\, nature\, hope\, and community\, the program offers something for all music lovers to enjoy. Admission is free\, donations are welcomed!
URL:https://heightsites.com/event/washington-heights-community-choir-spring-concert-2/
LOCATION:St. Frances Cabrini Shrine\, 701 Fort Washington Avenue (@190th Street)\, New York\, NY\, 10040\, United States
CATEGORIES:Music
ATTACH;FMTTYPE=image/png:https://heightsites.com/wp-content/uploads/2026/04/Screenshot-2026-04-16-at-1.25.10-PM.png
ORGANIZER;CN="Washington Heights Community Choir":MAILTO:bethbreslauer@gmail.com
GEO:40.8584802;-73.9353851
X-APPLE-STRUCTURED-LOCATION;VALUE=URI;X-ADDRESS=St. Frances Cabrini Shrine 701 Fort Washington Avenue (@190th Street) New York NY 10040 United States;X-APPLE-RADIUS=500;X-TITLE=701 Fort Washington Avenue (@190th Street):geo:-73.9353851,40.8584802
END:VEVENT
END:VCALENDAR