BEGIN:VCALENDAR
VERSION:2.0
PRODID:-//HeightSites - ECPv6.15.17.1//NONSGML v1.0//EN
CALSCALE:GREGORIAN
METHOD:PUBLISH
X-ORIGINAL-URL:https://heightsites.com
X-WR-CALDESC:Events for HeightSites
REFRESH-INTERVAL;VALUE=DURATION:PT1H
X-Robots-Tag:noindex
X-PUBLISHED-TTL:PT1H
BEGIN:VTIMEZONE
TZID:America/New_York
BEGIN:DAYLIGHT
TZOFFSETFROM:-0500
TZOFFSETTO:-0400
TZNAME:EDT
DTSTART:20250309T070000
END:DAYLIGHT
BEGIN:STANDARD
TZOFFSETFROM:-0400
TZOFFSETTO:-0500
TZNAME:EST
DTSTART:20251102T060000
END:STANDARD
BEGIN:DAYLIGHT
TZOFFSETFROM:-0500
TZOFFSETTO:-0400
TZNAME:EDT
DTSTART:20260308T070000
END:DAYLIGHT
BEGIN:STANDARD
TZOFFSETFROM:-0400
TZOFFSETTO:-0500
TZNAME:EST
DTSTART:20261101T060000
END:STANDARD
BEGIN:DAYLIGHT
TZOFFSETFROM:-0500
TZOFFSETTO:-0400
TZNAME:EDT
DTSTART:20270314T070000
END:DAYLIGHT
BEGIN:STANDARD
TZOFFSETFROM:-0400
TZOFFSETTO:-0500
TZNAME:EST
DTSTART:20271107T060000
END:STANDARD
END:VTIMEZONE
BEGIN:VEVENT
DTSTART;TZID=America/New_York:20260504T103000
DTEND;TZID=America/New_York:20260504T183000
DTSTAMP:20260422T010316
CREATED:20260413T203924Z
LAST-MODIFIED:20260413T203924Z
UID:10008982-1777890600-1777919400@heightsites.com
SUMMARY:Washington Heights Library: May the Fourth Star Wars Movie Marathon
DESCRIPTION:To celebrate almost fifty years of Star Wars\, we will be showing the original trilogy of Star Wars films all day long\, in order of release. Featuring Star Wars (1977)\, The Empire Strikes Back (1980)\, and Return of the Jedi (1983). There will be breaks in between films but no intermissions.
URL:https://heightsites.com/event/washington-heights-library-may-the-fourth-star-wars-movie-marathon/
LOCATION:Washington Heights Library\, 1000 St Nicholas avenue\, NEW YORK\, NY\, 10032\, United States
CATEGORIES:Film
ATTACH;FMTTYPE=image/png:https://heightsites.com/wp-content/uploads/2026/04/Monday-May-4-2026.png
GEO:40.8345149;-73.939702
X-APPLE-STRUCTURED-LOCATION;VALUE=URI;X-ADDRESS=Washington Heights Library 1000 St Nicholas avenue NEW YORK NY 10032 United States;X-APPLE-RADIUS=500;X-TITLE=1000 St Nicholas avenue:geo:-73.939702,40.8345149
END:VEVENT
END:VCALENDAR