BEGIN:VCALENDAR
VERSION:2.0
PRODID:-//HeightSites - ECPv6.15.20//NONSGML v1.0//EN
CALSCALE:GREGORIAN
METHOD:PUBLISH
X-WR-CALNAME:HeightSites
X-ORIGINAL-URL:https://heightsites.com
X-WR-CALDESC:Events for HeightSites
REFRESH-INTERVAL;VALUE=DURATION:PT1H
X-Robots-Tag:noindex
X-PUBLISHED-TTL:PT1H
BEGIN:VTIMEZONE
TZID:America/New_York
BEGIN:DAYLIGHT
TZOFFSETFROM:-0500
TZOFFSETTO:-0400
TZNAME:EDT
DTSTART:20230312T070000
END:DAYLIGHT
BEGIN:STANDARD
TZOFFSETFROM:-0400
TZOFFSETTO:-0500
TZNAME:EST
DTSTART:20231105T060000
END:STANDARD
BEGIN:DAYLIGHT
TZOFFSETFROM:-0500
TZOFFSETTO:-0400
TZNAME:EDT
DTSTART:20240310T070000
END:DAYLIGHT
BEGIN:STANDARD
TZOFFSETFROM:-0400
TZOFFSETTO:-0500
TZNAME:EST
DTSTART:20241103T060000
END:STANDARD
BEGIN:DAYLIGHT
TZOFFSETFROM:-0500
TZOFFSETTO:-0400
TZNAME:EDT
DTSTART:20250309T070000
END:DAYLIGHT
BEGIN:STANDARD
TZOFFSETFROM:-0400
TZOFFSETTO:-0500
TZNAME:EST
DTSTART:20251102T060000
END:STANDARD
END:VTIMEZONE
BEGIN:VEVENT
DTSTART;TZID=America/New_York:20241221T153000
DTEND;TZID=America/New_York:20241221T170000
DTSTAMP:20260425T083813
CREATED:20241208T233647Z
LAST-MODIFIED:20241208T233647Z
UID:10002368-1734795000-1734800400@heightsites.com
SUMMARY:Winter Solstice at Bruce’s Garden
DESCRIPTION:Join us in Bruce’s Garden on Winter Solstice  for Sunset & Cider. Winter Solstice is the longest night of the year. The good news is the colorful garden lights will come in each night at 5 til Jan 15 to brighten up the season!‎
URL:https://heightsites.com/event/winter-solstice-at-bruces-garden/
LOCATION:Bruce Reynolds Memorial Garden\, Across from 10 Park Terrace EAST\, near W. 215 St.\, New York\, NY\, 10034\, United States
CATEGORIES:Unique Events
ATTACH;FMTTYPE=image/jpeg:https://heightsites.com/wp-content/uploads/2024/12/FB_IMG_1733700424707.jpg
GEO:40.8696078;-73.9175664
X-APPLE-STRUCTURED-LOCATION;VALUE=URI;X-ADDRESS=Bruce Reynolds Memorial Garden Across from 10 Park Terrace EAST near W. 215 St. New York NY 10034 United States;X-APPLE-RADIUS=500;X-TITLE=Across from 10 Park Terrace EAST\, near W. 215 St.:geo:-73.9175664,40.8696078
END:VEVENT
END:VCALENDAR