BEGIN:VCALENDAR
VERSION:2.0
PRODID:-//HeightSites - ECPv6.15.17.1//NONSGML v1.0//EN
CALSCALE:GREGORIAN
METHOD:PUBLISH
X-WR-CALNAME:HeightSites
X-ORIGINAL-URL:https://heightsites.com
X-WR-CALDESC:Events for HeightSites
REFRESH-INTERVAL;VALUE=DURATION:PT1H
X-Robots-Tag:noindex
X-PUBLISHED-TTL:PT1H
BEGIN:VTIMEZONE
TZID:America/New_York
BEGIN:DAYLIGHT
TZOFFSETFROM:-0500
TZOFFSETTO:-0400
TZNAME:EDT
DTSTART:20250309T070000
END:DAYLIGHT
BEGIN:STANDARD
TZOFFSETFROM:-0400
TZOFFSETTO:-0500
TZNAME:EST
DTSTART:20251102T060000
END:STANDARD
BEGIN:DAYLIGHT
TZOFFSETFROM:-0500
TZOFFSETTO:-0400
TZNAME:EDT
DTSTART:20260308T070000
END:DAYLIGHT
BEGIN:STANDARD
TZOFFSETFROM:-0400
TZOFFSETTO:-0500
TZNAME:EST
DTSTART:20261101T060000
END:STANDARD
BEGIN:DAYLIGHT
TZOFFSETFROM:-0500
TZOFFSETTO:-0400
TZNAME:EDT
DTSTART:20270314T070000
END:DAYLIGHT
BEGIN:STANDARD
TZOFFSETFROM:-0400
TZOFFSETTO:-0500
TZNAME:EST
DTSTART:20271107T060000
END:STANDARD
END:VTIMEZONE
BEGIN:VEVENT
DTSTART;TZID=America/New_York:20260301T110000
DTEND;TZID=America/New_York:20260301T140000
DTSTAMP:20260421T080159
CREATED:20260207T183754Z
LAST-MODIFIED:20260226T104816Z
UID:10008826-1772362800-1772373600@heightsites.com
SUMMARY:YM&YWHA of Washington Heights & Inwood: Purim Carnival
DESCRIPTION:YM&YWHA of Washington Heights & Inwood- Up In The Sky Purim Carnival. Fly through aviation adventures\, drift with balloons\, and zoom into outer space with games\, crafts\, and playful surprises for the whole family. \nTickets are limited – get yours today: https://myywashhts.my.site.com/recde/s/registration \n 
URL:https://heightsites.com/event/ymywha-of-washington-heights-inwood-purim-carnival/
LOCATION:YM & YWHA of Washington Heights and Inwood\, 54 Nagle Avenue (betw. Broadway & Ellwood Sts.)\, New York\, NY\, 10040
CATEGORIES:Unique Events
ATTACH;FMTTYPE=image/png:https://heightsites.com/wp-content/uploads/2026/02/Purim2026.png
GEO:40.8601846;-73.9295067
X-APPLE-STRUCTURED-LOCATION;VALUE=URI;X-ADDRESS=YM & YWHA of Washington Heights and Inwood 54 Nagle Avenue (betw. Broadway & Ellwood Sts.) New York NY 10040;X-APPLE-RADIUS=500;X-TITLE=54 Nagle Avenue (betw. Broadway & Ellwood Sts.):geo:-73.9295067,40.8601846
END:VEVENT
END:VCALENDAR